BEGIN:VCALENDAR
PRODID:-//eluceo/ical//2.0/EN
VERSION:2.0
CALSCALE:GREGORIAN
BEGIN:VEVENT
UID:4c9095a6db3dd02323953362796eb6ca
DTSTAMP:20260422T223923Z
SUMMARY:Services
DESCRIPTION:Champaign-Urbana Jewish Federation\nCommunity Calendar\nhttps:/
 /cujf.org/community-calendar/services-hillel\n\nServices
DTSTART;TZID=America/Chicago:20190929T000000
DTEND;TZID=America/Chicago:20190929T235959
END:VEVENT
END:VCALENDAR
