BEGIN:VCALENDAR
PRODID:-//eluceo/ical//2.0/EN
VERSION:2.0
CALSCALE:GREGORIAN
BEGIN:VEVENT
UID:6fdafde905bc8b70472655c2c7169229
DTSTAMP:20260422T180424Z
SUMMARY:Screening of “Song Searcher”
DESCRIPTION:Champaign-Urbana Jewish Federation\nCommunity Calendar\nhttps:/
 /cujf.org/community-calendar/screening-of-song-searcher\n\nScreening of 
 “Song Searcher” at Hillel at 7 pm\n\n \n\nSee the UIUC Program in Jew
 ish Culture & Society for more information
DTSTART;TZID=America/Chicago:20221101T190000
DTEND;TZID=America/Chicago:20221101T210000
END:VEVENT
END:VCALENDAR
