BEGIN:VCALENDAR
PRODID:-//eluceo/ical//2.0/EN
VERSION:2.0
CALSCALE:GREGORIAN
BEGIN:VEVENT
UID:9d9226f6406157fbfcd651a4337138fe
DTSTAMP:20260422T062726Z
SUMMARY:Screening of  SHTTL (Ukraine\, 2022)
DESCRIPTION:Champaign-Urbana Jewish Federation\nCommunity Calendar\nhttps:/
 /cujf.org/community-calendar/screening-of-shttl-ukraine-2022\n\nFilm scree
 ning: SHTTL\n\nJoin us for a screening of the award-winning film\, SHTTL (
 Ukraine\, 2022)\, on October 16\, 5:15 pm\, at the Main Library Building\,
  Room 66 (1408 W. Gregory Drive\, Urbana\, IL 61801). \n\n \n\nSHTTL port
 rays the lives of people in a small Ukrainian Jewish town (shtetl) at the 
 Polish border\, 24 hours before the Nazi invasion. It is a touching story 
 of a filmmaker who returns from Kyiv to his native shtetl to marry the lov
 e of his life and disrupts the balance of the entire...
DTSTART;TZID=America/Chicago:20251016T171500
DTEND;TZID=America/Chicago:20251016T191500
END:VEVENT
END:VCALENDAR
