BEGIN:VCALENDAR
PRODID:-//eluceo/ical//2.0/EN
VERSION:2.0
CALSCALE:GREGORIAN
BEGIN:VEVENT
UID:9a81cecf4461baac25c2d0e7d612e7d5
DTSTAMP:20260422T053341Z
SUMMARY:Screening of Four Winters
DESCRIPTION:Champaign-Urbana Jewish Federation\nCommunity Calendar\nhttps:/
 /cujf.org/community-calendar/screening-of-four-winters-1678552350\n\nJoin 
 us for a screening of the award winning film "Four Winters". This film has
  roots tied to our own community as it follows the relatives of local comm
 unity member\, Ann Sussman. After the screening we will be joined via Zoom
  by co-producer Lee Feldscher for a brief Q&A. \n\n \n\nWe are grateful 
 to our cosponsors for helping bring this film to Champaign-Urbana: Illini
  Hillel\, Sinai Temple\, and the Spurlock Museum: we recognize "The Spurl
 ock Museum Judaica Fund" as a funding source.\n\n ...
DTSTART;TZID=America/Chicago:20230323T190000
DTEND;TZID=America/Chicago:20230323T210000
END:VEVENT
END:VCALENDAR
