BEGIN:VCALENDAR
PRODID:-//eluceo/ical//2.0/EN
VERSION:2.0
CALSCALE:GREGORIAN
BEGIN:VEVENT
UID:c315e1f5d176da94ce711e947036360f
DTSTAMP:20260422T102324Z
SUMMARY:Schmooze Halloween Party
DESCRIPTION:Champaign-Urbana Jewish Federation\nCommunity Calendar\nhttps:/
 /cujf.org/community-calendar/schmooze-halloween-party\n\nJoin Schmooze for
  a special Halloween. I put a spell on you\, and now you have to come to t
 he first ever Schmooze Halloween Party! There will be a costume contest wi
 th a PRIZE\, brews\, spooky snacks\, and we will be watching the cult clas
 sic\, Hocus Pocus! \n\n 
DTSTART;TZID=America/Chicago:20221026T190000
DTEND;TZID=America/Chicago:20221026T210000
END:VEVENT
END:VCALENDAR
