BEGIN:VCALENDAR
PRODID:-//eluceo/ical//2.0/EN
VERSION:2.0
CALSCALE:GREGORIAN
BEGIN:VEVENT
UID:d2a7bdce83390e0109c2e2d655c247cc
DTSTAMP:20260425T122505Z
SUMMARY:Schmooze: CU Young Professionals Hanukkuah Party
DESCRIPTION:Champaign-Urbana Jewish Federation\nCommunity Calendar\nhttps:/
 /cujf.org/community-calendar/schmooze-cu-young-professionals-hanukkuah-par
 ty\n\nSchmooze is now under the umbrella of the Champaign-Urbana Jewish Fe
 deration! CUJF will be implementing more programming and leadership opport
 unities in the coming months including a Hanukkah Party on Thursday\, Dece
 mber 6th at 6:00 p.m. at Flying Machine Avionics (202 S 1st St\, Champaign
 \, IL 61820). Join us for games\, candle lighting\, coffee\, and appetizer
 s. CUJF will also be hosting a focus group in the coming weeks to plan mor
 e programming and direction for young professionals in Champaign-...
DTSTART;TZID=America/Chicago:20181206T180000
DTEND;TZID=America/Chicago:20181206T210000
END:VEVENT
END:VCALENDAR
