BEGIN:VCALENDAR
PRODID:-//eluceo/ical//2.0/EN
VERSION:2.0
CALSCALE:GREGORIAN
BEGIN:VEVENT
UID:ec675f8bc99e4061220ebd0b4e848ad4
DTSTAMP:20260421T093056Z
SUMMARY:Schmooze Bowling Party
DESCRIPTION:Champaign-Urbana Jewish Federation\nCommunity Calendar\nhttps:/
 /cujf.org/community-calendar/schmooze-bowling-party-1682387080-436292\n\nG
 raduate students and young professionals are invited to join Chambana Schm
 ooze for their end of the semester Bowling Party get-together!
DTSTART;TZID=America/Chicago:20230507T190000
DTEND;TZID=America/Chicago:20230507T210000
END:VEVENT
END:VCALENDAR
