BEGIN:VCALENDAR
PRODID:-//eluceo/ical//2.0/EN
VERSION:2.0
CALSCALE:GREGORIAN
BEGIN:VEVENT
UID:501fb2c0ebb861ff425fbf0ab1def190
DTSTAMP:20260422T170923Z
SUMMARY:Schmooze Board Game Night
DESCRIPTION:Champaign-Urbana Jewish Federation\nCommunity Calendar\nhttps:/
 /cujf.org/community-calendar/schmooze-board-game-night-1682386694-436291\n
 \nCome join Schmooze for a casual get board game together at 25 O&#039\;Cl
 ock Brewing Co in Urbana!
DTSTART;TZID=America/Chicago:20230427T190000
DTEND;TZID=America/Chicago:20230427T210000
END:VEVENT
END:VCALENDAR
