BEGIN:VCALENDAR
PRODID:-//eluceo/ical//2.0/EN
VERSION:2.0
CALSCALE:GREGORIAN
BEGIN:VEVENT
UID:cee7ca179863f07a64eed56a0377b48e
DTSTAMP:20260422T184722Z
SUMMARY:Schmooze - Bike Ride to the Sukkah
DESCRIPTION:Champaign-Urbana Jewish Federation\nCommunity Calendar\nhttps:/
 /cujf.org/community-calendar/schmooze-bike-ride-to-the-sukkah\n\nCome join
  Schmooze for a short casual bike ride to the to the Sol's Sukkah and back
  to Hillel! We will depart from Hillel at 10 am. Please bring your own bik
 e\, we will wrangle up a couple Veo bikes for those who don't have bikes.\
 n\n 
DTSTART;TZID=America/Chicago:20221016T100000
DTEND;TZID=America/Chicago:20221016T110000
END:VEVENT
END:VCALENDAR
