BEGIN:VCALENDAR
PRODID:-//eluceo/ical//2.0/EN
VERSION:2.0
CALSCALE:GREGORIAN
BEGIN:VEVENT
UID:27e8715ea3a6e1f50db37e4d2ef629b1
DTSTAMP:20260421T031712Z
SUMMARY:Rosh Hashanah Picnic
DESCRIPTION:Champaign-Urbana Jewish Federation\nCommunity Calendar\nhttps:/
 /cujf.org/community-calendar/rosh-hashanah-picnic\n\nCome together as a co
 mmunity to welcome a sweet New Year! Join us for this fun family-friendly 
 gathering. All are welcome!
DTSTART;TZID=America/Chicago:20170917T150000
DTEND;TZID=America/Chicago:20170917T163000
END:VEVENT
END:VCALENDAR
