BEGIN:VCALENDAR
PRODID:-//eluceo/ical//2.0/EN
VERSION:2.0
CALSCALE:GREGORIAN
BEGIN:VEVENT
UID:f39f02d67bb28a707e6911563ad7853c
DTSTAMP:20260425T180149Z
SUMMARY:Rosh Hashanah Morning Services
DESCRIPTION:Champaign-Urbana Jewish Federation\nCommunity Calendar\nhttps:/
 /cujf.org/community-calendar/rosh-hashanah-morning-services-Sept-10\n\n \
 n\nJoin Chabad to celebrate Rosh Hashanah. Please RSVP to let Chabad kno
 w which services and meals you will be attending. See the full schedule f
 or the high holidays on the Chabad website. 
DTSTART;TZID=America/Chicago:20180910T093000
DTEND;TZID=America/Chicago:20180910T112500
END:VEVENT
END:VCALENDAR
