BEGIN:VCALENDAR
PRODID:-//eluceo/ical//2.0/EN
VERSION:2.0
CALSCALE:GREGORIAN
BEGIN:VEVENT
UID:7abbee90376b5a9ab37f312c83b5fccf
DTSTAMP:20260422T030206Z
SUMMARY:Rosh Hashanah Lunch
DESCRIPTION:Champaign-Urbana Jewish Federation\nCommunity Calendar\nhttps:/
 /cujf.org/community-calendar/rosh-hashanah-lunch-Sept-11\n\n \n\nHillel i
 s offering Reform\, Conservative\, and Orthodox services for the High Holi
 days. Please see their website for a complete listing of all services and
  meals for Rosh Hashanah\, Yom Kippur\, and Sukkot. The same website serve
 s as the registration page for students. They have a separate page for r
 egistration for community members. 
DTSTART;TZID=America/Chicago:20180911T133000
DTEND;TZID=America/Chicago:20180911T141500
END:VEVENT
END:VCALENDAR
