BEGIN:VCALENDAR
PRODID:-//eluceo/ical//2.0/EN
VERSION:2.0
CALSCALE:GREGORIAN
BEGIN:VEVENT
UID:466525c55751f91be857451440e4e085
DTSTAMP:20260422T083229Z
SUMMARY:Rosh Hashanah Dinner
DESCRIPTION:Champaign-Urbana Jewish Federation\nCommunity Calendar\nhttps:/
 /cujf.org/community-calendar/rosh-hashanah-dinner-sept-9\n\nHillel is offe
 ring Reform\, Conservative\, and Orthodox services for the High Holidays. 
 Please see their website for a complete listing of all services and meals
  for Rosh Hashanah\, Yom Kippur\, and Sukkot. The same website serves as t
 he registration page for students. They have a separate page for registr
 ation for community members. 
DTSTART;TZID=America/Chicago:20180909T193000
DTEND;TZID=America/Chicago:20180909T213000
END:VEVENT
END:VCALENDAR
