BEGIN:VCALENDAR
PRODID:-//eluceo/ical//2.0/EN
VERSION:2.0
CALSCALE:GREGORIAN
BEGIN:VEVENT
UID:f25acd7574e0db169a52d937306f4ceb
DTSTAMP:20260422T010849Z
SUMMARY:Rosh Hashanah Dinner
DESCRIPTION:Champaign-Urbana Jewish Federation\nCommunity Calendar\nhttps:/
 /cujf.org/community-calendar/rosh-hashanah-dinner-Sept-10\n\nHillel is off
 ering Reform\, Conservative\, and Orthodox services for the High Holidays.
  Please see their website for a complete listing of all services and meal
 s for Rosh Hashanah\, Yom Kippur\, and Sukkot. The same website serves as 
 the registration page for students. They have a separate page for regist
 ration for community members. 
DTSTART;TZID=America/Chicago:20180910T201500
DTEND;TZID=America/Chicago:20180910T213000
END:VEVENT
END:VCALENDAR
