BEGIN:VCALENDAR
PRODID:-//eluceo/ical//2.0/EN
VERSION:2.0
CALSCALE:GREGORIAN
BEGIN:VEVENT
UID:165f7097a6a3aa82a65f1697a7eb61f3
DTSTAMP:20260422T012613Z
SUMMARY:Amit Schejter: Restrictions on Media Freedom at War Time
DESCRIPTION:Champaign-Urbana Jewish Federation\nCommunity Calendar\nhttps:/
 /cujf.org/community-calendar/restrictions-on-media-freedom-at-war-time\n\n
 Amit Schejter Discussing Restrictions on Media Freedom at War Time\n\nThe 
 Case of the Israel-Hamas War\n\nSeptember 17th\, 2024\n\n12:00 - 1:15 PM\n
 \nEnglish Building room 109\n\n \n\nA parlimentary democracy since its fo
 undation in 1948\, Israel has developed a unique constitutional struction 
 safeguarding its basic rights\, among them freedom of expression and the p
 ress\, while lacking a formal constitution. The tension between government
 \, the military and the press that emerges from this arran...
DTSTART;TZID=America/Chicago:20240917T120000
DTEND;TZID=America/Chicago:20240917T131500
END:VEVENT
END:VCALENDAR
