BEGIN:VCALENDAR
PRODID:-//eluceo/ical//2.0/EN
VERSION:2.0
CALSCALE:GREGORIAN
BEGIN:VEVENT
UID:1c07c1d92c055f39a1aa9dbd467390db
DTSTAMP:20260422T232127Z
SUMMARY:Reform Rosh Hashanah Services
DESCRIPTION:Champaign-Urbana Jewish Federation\nCommunity Calendar\nhttps:/
 /cujf.org/community-calendar/reform-rosh-hashanah-services-sept-10\n\nHill
 el is offering Reform\, Conservative\, and Orthodox services for the High 
 Holidays. Please see their website for a complete listing of all services
  and meals for Rosh Hashanah\, Yom Kippur\, and Sukkot. The same website s
 erves as the registration page for students. They have a separate page fo
 r registration for community members. 
DTSTART;TZID=America/Chicago:20180910T100000
DTEND;TZID=America/Chicago:20180910T130000
END:VEVENT
END:VCALENDAR
