BEGIN:VCALENDAR
PRODID:-//eluceo/ical//2.0/EN
VERSION:2.0
CALSCALE:GREGORIAN
BEGIN:VEVENT
UID:a6ff8d57c342f1b6c0ef44f0eeb8fbaf
DTSTAMP:20260421T074112Z
SUMMARY:Reform\, Conservative and Orthodox Kol Nidre Services
DESCRIPTION:Champaign-Urbana Jewish Federation\nCommunity Calendar\nhttps:/
 /cujf.org/community-calendar/reform-conservative-and-orthodox-kol-nidre-se
 rvices-2018\n\n \n\nHillel is offering Reform\, Conservative\, and Orthod
 ox services for the High Holidays. Please see their website for a complet
 e listing of all services and meals for Rosh Hashanah\, Yom Kippur\, and S
 ukkot. The same website serves as the registration page for students. The
 y have a separate page for registration for community members. 
DTSTART;TZID=America/Chicago:20180918T183000
DTEND;TZID=America/Chicago:20180918T203000
END:VEVENT
END:VCALENDAR
