BEGIN:VCALENDAR
PRODID:-//eluceo/ical//2.0/EN
VERSION:2.0
CALSCALE:GREGORIAN
BEGIN:VEVENT
UID:c9e43b8b1fe3750964fb342e3d6b2ca6
DTSTAMP:20260422T015258Z
SUMMARY:Read Across America w/ PJ Library & Holocaust Education Center
DESCRIPTION:Champaign-Urbana Jewish Federation\nCommunity Calendar\nhttps:/
 /cujf.org/community-calendar/read-across-america-w-pj-library-holocaust-ed
 ucation-center\n\nJoin the Champaign-Urbana Jewish Federation with PJ Libr
 ary and the Holocaust Education Center to celebrate Read Across America! 
 \n\nThere will be over 30 booths ready to provide hands-on fun and literac
 y related activities this year. See you on March 4th INSIDE Lincoln Square
 .
DTSTART;TZID=America/Chicago:20230304T100000
DTEND;TZID=America/Chicago:20230304T130000
END:VEVENT
END:VCALENDAR
