BEGIN:VCALENDAR
PRODID:-//eluceo/ical//2.0/EN
VERSION:2.0
CALSCALE:GREGORIAN
BEGIN:VEVENT
UID:747576d99445c366ec14354e1bebddaa
DTSTAMP:20260422T032018Z
SUMMARY:CU Read Across America Celebration
DESCRIPTION:Champaign-Urbana Jewish Federation\nCommunity Calendar\nhttps:/
 /cujf.org/community-calendar/read-across-america\n\nEnjoy a day of reading
  and fun. All ages welcome!\n\n\nJoin the Urbana Park District and more th
 an 40 local businesses and organizations as we celebrate literacy!\n\nHand
 s-on activities\, story-tellers\, costumed characters\, toddler area\, loc
 al celebrity greeters\, and books read in multiple languages make this eve
 nt a family favorite.\n\nThe first 1\,000 children who attend will receive
  a free bag and a book of their choice!
DTSTART;TZID=America/Chicago:20240302T100000
DTEND;TZID=America/Chicago:20240302T130000
END:VEVENT
END:VCALENDAR
