BEGIN:VCALENDAR
PRODID:-//eluceo/ical//2.0/EN
VERSION:2.0
CALSCALE:GREGORIAN
BEGIN:VEVENT
UID:46150aa2ad49b5899395c419ee3c4836
DTSTAMP:20260422T101052Z
SUMMARY:Reaching Arab Businesses for Israel’s Social and Economic Resilie
 nce
DESCRIPTION:Champaign-Urbana Jewish Federation\nCommunity Calendar\nhttps:/
 /cujf.org/community-calendar/reaching-arab-businesses-for-israels-social-a
 nd-economic-resilience\n\nReaching Arab Businesses for Israel’s Social a
 nd Economic Resilience\n\nTuesday\, October 15th\n\n11:00 AM - 12:00 PM\n\
 nRegister Here\n\n \n\n\nIn the wake of October 7\, Jewish Federations cr
 eated a loan fund for small and medium-sized businesses that struggle to a
 ccess bank credit. Arab-owned businesses\, which represent just under a fi
 fth of all Israeli businesses\, are a target group for these loans. Join u
 s on Tuesday\, October 15 at noon ET/ 7pm Israel time\, to learn about the
  significan...
DTSTART;TZID=America/Chicago:20241015T110000
DTEND;TZID=America/Chicago:20241015T130000
END:VEVENT
END:VCALENDAR
