BEGIN:VCALENDAR
PRODID:-//eluceo/ical//2.0/EN
VERSION:2.0
CALSCALE:GREGORIAN
BEGIN:VEVENT
UID:0b9583d8f4c8c1e0396f2c8bae9b608d
DTSTAMP:20260424T181406Z
SUMMARY:'Rare Stuff' book launch with author Brett Kaplan
DESCRIPTION:Champaign-Urbana Jewish Federation\nCommunity Calendar\nhttps:/
 /cujf.org/community-calendar/rare-stuff-book-launch-with-author-brett-kapl
 an\n\nEvent Type\nReception/Open House\nSponsor\nThe Program in Jewish Cul
 ture and Society\nLocation\nThe Author's Corner at the Illini Union Bookst
 ore\nDate\nOct 27\, 2022   All Day
DTSTART;TZID=America/Chicago:20221027T160000
DTEND;TZID=America/Chicago:20221027T180000
END:VEVENT
END:VCALENDAR
