BEGIN:VCALENDAR
PRODID:-//eluceo/ical//2.0/EN
VERSION:2.0
CALSCALE:GREGORIAN
BEGIN:VEVENT
UID:a98763af37dea76d7d85b5ee37d03b90
DTSTAMP:20260422T082538Z
SUMMARY:Q & A with director of “Song Searcher”
DESCRIPTION:Champaign-Urbana Jewish Federation\nCommunity Calendar\nhttps:/
 /cujf.org/community-calendar/q-a-with-director-of-song-searcher\n\nQ & A w
 ith director of “Song Searcher”\; movie availability Oct 30-Nov 5\n\n
  \n\nSee UIUC Program in Jewish Culture & Society for more information
DTSTART;TZID=America/Chicago:20221031T000000
DTEND;TZID=America/Chicago:20221031T235959
END:VEVENT
END:VCALENDAR
