BEGIN:VCALENDAR
PRODID:-//eluceo/ical//2.0/EN
VERSION:2.0
CALSCALE:GREGORIAN
BEGIN:VEVENT
UID:40f617d9b6bdbd8017af18a9a3162e40
DTSTAMP:20260422T022346Z
SUMMARY:Purim
DESCRIPTION:Champaign-Urbana Jewish Federation\nCommunity Calendar\nhttps:/
 /cujf.org/community-calendar/purim2026-489024\n\n
DTSTART;TZID=America/Chicago:20260303T000000
DTEND;TZID=America/Chicago:20260303T235959
END:VEVENT
END:VCALENDAR
