BEGIN:VCALENDAR
PRODID:-//eluceo/ical//2.0/EN
VERSION:2.0
CALSCALE:GREGORIAN
BEGIN:VEVENT
UID:99e4780e158e28a915df4b37cdf08376
DTSTAMP:20260425T130555Z
SUMMARY:Purim Youth Party
DESCRIPTION:Champaign-Urbana Jewish Federation\nCommunity Calendar\nhttps:/
 /cujf.org/community-calendar/purim-youth-party\n\nAll 7th-12th graders are
  invited to come dressed up in costume for karaoke\, dancing\, trivia\, ga
 mes\, photo booth\, snacks.\n\nRSVP to yael.gertner@gmail.com
DTSTART;TZID=America/Chicago:20190302T193000
DTEND;TZID=America/Chicago:20190302T213000
END:VEVENT
END:VCALENDAR
