BEGIN:VCALENDAR
PRODID:-//eluceo/ical//2.0/EN
VERSION:2.0
CALSCALE:GREGORIAN
BEGIN:VEVENT
UID:802a2cc0b145ab234673c34ee652e0fa
DTSTAMP:20260422T014819Z
SUMMARY:Purim & Shabbat Fusion
DESCRIPTION:Champaign-Urbana Jewish Federation\nCommunity Calendar\nhttps:/
 /cujf.org/community-calendar/purim-shabbat-fusion\n\nPurim at Illini Chaba
 d\n\nFriday\, March 14th\, 5:30 PM\n\nIllini Chabad\, 209 E Armory Ave\n\
 n \n\nIllini Chabad is partnering with CUJF PJ Library to invite families
  to the Purim and Shabbat Fusion event!  RSVP using the button below. Cos
 tumes of all types are encouraged!\n\n\n\n\n\n\n\n \n\n\n\n\n\n\n\n\n\n\n
 \n\nRSVP
DTSTART;TZID=America/Chicago:20250314T173000
DTEND;TZID=America/Chicago:20250314T193000
END:VEVENT
END:VCALENDAR
