BEGIN:VCALENDAR
PRODID:-//eluceo/ical//2.0/EN
VERSION:2.0
CALSCALE:GREGORIAN
BEGIN:VEVENT
UID:5eaa7182e434c328829a97c62a82cdc9
DTSTAMP:20260419T180339Z
SUMMARY:Purim Drag Show
DESCRIPTION:Champaign-Urbana Jewish Federation\nCommunity Calendar\nhttps:/
 /cujf.org/community-calendar/purim-drag-show\n\nWe are celebrating our sec
 ond annual Purim drag show this March. Join us in your best costume and a 
 full drag show featuring professional drag queens and kings performing the
  story of Purim. Tickets are $5 online at https://www.illinihillel.org/pur
 im-drag-show and all proceeds will be donated to the UP Center of Champaig
 n-Urbana.
DTSTART;TZID=America/Chicago:20190313T210000
DTEND;TZID=America/Chicago:20190313T230000
END:VEVENT
END:VCALENDAR
