BEGIN:VCALENDAR
PRODID:-//eluceo/ical//2.0/EN
VERSION:2.0
CALSCALE:GREGORIAN
BEGIN:VEVENT
UID:350e993fb36e05b3e17158c76bf8aa3e
DTSTAMP:20260426T001904Z
SUMMARY:Purim Celebration and Megillah Reading
DESCRIPTION:Champaign-Urbana Jewish Federation\nCommunity Calendar\nhttps:/
 /cujf.org/community-calendar/purim-celebration-and-megillah-reading\n\nJus
 t a turn of the grogger and costume parade\, Purims the most delightful da
 y! We will have dinner together and be entertained by a Mary Poppins Purim
  Spiel before hearing the whole megillah. Be sure to bring a box of elbow 
 macaroni for a grogger. All boxes of pasta will be donated to the Eastern 
 Illinois Food Bank! RSVP for the potluck dinner. We are looking for people
  to bring certain dishes and other people to assist with setup and cleanup
 .
DTSTART;TZID=America/Chicago:20190320T173000
DTEND;TZID=America/Chicago:20190320T210000
END:VEVENT
END:VCALENDAR
