BEGIN:VCALENDAR
PRODID:-//eluceo/ical//2.0/EN
VERSION:2.0
CALSCALE:GREGORIAN
BEGIN:VEVENT
UID:dff40bd97a6add5180d8835f7e2ebc46
DTSTAMP:20260421T055040Z
SUMMARY:Purim Celebration
DESCRIPTION:Champaign-Urbana Jewish Federation\nCommunity Calendar\nhttps:/
 /cujf.org/community-calendar/purim-celebration-436625\n\nIt's a festive Pu
 rim celebration at Sinai Temple.  We begin with a delicious dinner\, foll
 owed by our world-famous Purim Shpiel.  We conclude the evening with a re
 ading of the whole megillah.
DTSTART;TZID=America/Chicago:20240323T173000
DTEND;TZID=America/Chicago:20240323T210000
END:VEVENT
END:VCALENDAR
