BEGIN:VCALENDAR
PRODID:-//eluceo/ical//2.0/EN
VERSION:2.0
CALSCALE:GREGORIAN
BEGIN:VEVENT
UID:90de86747006649d656cff1979d24c0e
DTSTAMP:20260423T230155Z
SUMMARY:Pre-Fast Meal
DESCRIPTION:Champaign-Urbana Jewish Federation\nCommunity Calendar\nhttps:/
 /cujf.org/community-calendar/pre-fast-meal-2018\n\n \n\nHillel is offerin
 g Reform\, Conservative\, and Orthodox services for the High Holidays. Ple
 ase see their website for a complete listing of all services and meals fo
 r Rosh Hashanah\, Yom Kippur\, and Sukkot. The same website serves as the
  registration page for students. They have a separate page for registrat
 ion for community members. 
DTSTART;TZID=America/Chicago:20180918T173000
DTEND;TZID=America/Chicago:20180918T181500
END:VEVENT
END:VCALENDAR
