BEGIN:VCALENDAR
PRODID:-//eluceo/ical//2.0/EN
VERSION:2.0
CALSCALE:GREGORIAN
BEGIN:VEVENT
UID:334c373703a5f1cb6e37dd6286cc9321
DTSTAMP:20260424T083810Z
SUMMARY:Sinai Temple + PJ Library Post-Camp Dinner
DESCRIPTION:Champaign-Urbana Jewish Federation\nCommunity Calendar\nhttps:/
 /cujf.org/community-calendar/post-camp-dinner\n\nSinai Temple + PJ Library
  Post Camp\n\n Dinner at the Park\n\nWednesday\, August 21st\n\n5:00 - 6:
 30 PM\n\nBurwash Park\n\n350 Burwash Ave\, Savoy\n\n \n\nWe have reschedu
 led the Sinai Temple and PJ Library Post-Summer Camp Dinner for August 21
 st from 5-6:30pm at Burwash Park! This event is for all ages\, so bring t
 he whole family. There will be dinner catered from Olive Garden\, an inter
 active book walk\, and fun ways to get to know other parents! This program
  will revive your camp spirit ami...
DTSTART;TZID=America/Chicago:20240821T170000
DTEND;TZID=America/Chicago:20240821T183000
END:VEVENT
END:VCALENDAR
