BEGIN:VCALENDAR
PRODID:-//eluceo/ical//2.0/EN
VERSION:2.0
CALSCALE:GREGORIAN
BEGIN:VEVENT
UID:2e582eb611b73ccf435e9e61e69ccd8a
DTSTAMP:20260425T172146Z
SUMMARY:PJ Library Earth Day: Relaxing with Reptiles
DESCRIPTION:Champaign-Urbana Jewish Federation\nCommunity Calendar\nhttps:/
 /cujf.org/community-calendar/pj-relaxing-with-reptiles\n\nPJ Our Way Earth
  Day Webinar - Relaxing With Reptiles\n\nWhat do turtles\, lizards\, snake
 s\, and water dragons all have in common? How many species of snakes live 
 in Israel? How can reptiles save lives? Join PJ Our Way and Rafael Yifrach
 \, a world-famous reptile expert for an Earth Day experience you won’t f
 orget! This webinar is for PJ Our Way members and PJ families with kids 7+
  only.\n\n Register here
DTSTART;TZID=America/Chicago:20240414T140000
DTEND;TZID=America/Chicago:20240414T150000
END:VEVENT
END:VCALENDAR
