BEGIN:VCALENDAR
PRODID:-//eluceo/ical//2.0/EN
VERSION:2.0
CALSCALE:GREGORIAN
BEGIN:VEVENT
UID:e2b0208923837b5188a9892f30f1485e
DTSTAMP:20260422T144731Z
SUMMARY:PJ Library Nature Walk
DESCRIPTION:Champaign-Urbana Jewish Federation\nCommunity Calendar\nhttps:/
 /cujf.org/community-calendar/pj-nature\n\nJoin PJ Library for a post-Thank
 sgiving nature walk to express our gratitude for the natural world around 
 us. We'll meet outside the Anita Purves Nature Center and take a walk on t
 he Busey Woods Boardwalk. This walk is toddler and stroller friendly! This
  event is weather-dependent\, so please keep an eye on your email if the w
 eather is looking questionable.\n\nPlease RSVP at www.cujf.org/pjnature
DTSTART;TZID=America/Chicago:20241129T100000
DTEND;TZID=America/Chicago:20241129T113000
END:VEVENT
END:VCALENDAR
