BEGIN:VCALENDAR
PRODID:-//eluceo/ical//2.0/EN
VERSION:2.0
CALSCALE:GREGORIAN
BEGIN:VEVENT
UID:aebfb3b45d806c51fecdfcc61aad8bfe
DTSTAMP:20260421T154103Z
SUMMARY:PJ Library visits the Anita Purves Nature Center
DESCRIPTION:Champaign-Urbana Jewish Federation\nCommunity Calendar\nhttps:/
 /cujf.org/community-calendar/pj-library-visits-the-anita-purves-nature-cen
 ter-1670627938\n\nCalling all PJ Library Families! Join us at the Anita Pu
 rves Nature Center to meet a live screech owl and learn about these native
  birds of prey! Space is limited\, RSVP link coming soon!
DTSTART;TZID=America/Chicago:20230129T160000
DTEND;TZID=America/Chicago:20230129T170000
END:VEVENT
END:VCALENDAR
