BEGIN:VCALENDAR
PRODID:-//eluceo/ical//2.0/EN
VERSION:2.0
CALSCALE:GREGORIAN
BEGIN:VEVENT
UID:4f6768a93730d04232fef98bba4d0210
DTSTAMP:20260424T001225Z
SUMMARY:PJ Library Tot Shabbat
DESCRIPTION:Champaign-Urbana Jewish Federation\nCommunity Calendar\nhttps:/
 /cujf.org/community-calendar/pj-library-tot-shabbat\n\nPJ Library Tot Shab
 bat\nRegister here\n\nFriday\, March 21st\n\n10:00 AM CST\n\n\nJoin PJ Lib
 rary and Tkiya for a once-a-month free and engaging Friday morning Tot Sha
 bbat Zoom class for babies\, toddlers\, preschoolers\, and their grownups 
 at 10am CST. A link to join the Zoom event will be sent out the day before
  each occurrence. 
DTSTART;TZID=America/Chicago:20250321T100000
DTEND;TZID=America/Chicago:20250321T110000
END:VEVENT
END:VCALENDAR
