BEGIN:VCALENDAR
PRODID:-//eluceo/ical//2.0/EN
VERSION:2.0
CALSCALE:GREGORIAN
BEGIN:VEVENT
UID:519c6a214ac80d29455c0e37c21e46b1
DTSTAMP:20260423T013226Z
SUMMARY:PJ Library Tikkun Olam with Feeding Our Kids
DESCRIPTION:Champaign-Urbana Jewish Federation\nCommunity Calendar\nhttps:/
 /cujf.org/community-calendar/pj-library-tikkun-olam-with-feeding-our-kids-
 1693927210\n\nPJ Library Families are invited to volunteer at Feeding Our 
 Kids. We will be packing food into bags for food-insecure school children 
 in Champaign County.Children ages 3-7 are welcome with a parent. Children 
 ages 7-9 may attend without a parent (though parents are welcome!)Location
  TBD\, but will be within Champaign-UrbanaRSVP at https://cujf.org/rsvp-ti
 kkun
DTSTART;TZID=America/Chicago:20231111T100000
DTEND;TZID=America/Chicago:20231111T110000
END:VEVENT
END:VCALENDAR
