BEGIN:VCALENDAR
PRODID:-//eluceo/ical//2.0/EN
VERSION:2.0
CALSCALE:GREGORIAN
BEGIN:VEVENT
UID:49e827065bd90d37c87b1f743152e44d
DTSTAMP:20260421T030457Z
SUMMARY:PJ Library Rugelach Baking (PreK-6th grade)
DESCRIPTION:Champaign-Urbana Jewish Federation\nCommunity Calendar\nhttps:/
 /cujf.org/community-calendar/pj-library-rugelach-baking\n\nPreK through 6t
 h graders are invited to bake Rugelach at Sinai Temple (PreK-2nd with a pa
 rent please)\n\n*We need a few parent volunteers to help supervise and cle
 an up*\n\nThis the first of several PJ Library Baking Series events we wil
 l be holding in the 2023-2024 school year. Stay tuned to learn about futur
 e events!\n\nPlease RSVP at www.cujf.org/rugelach
DTSTART;TZID=America/Chicago:20231126T140000
DTEND;TZID=America/Chicago:20231126T153000
END:VEVENT
END:VCALENDAR
