BEGIN:VCALENDAR
PRODID:-//eluceo/ical//2.0/EN
VERSION:2.0
CALSCALE:GREGORIAN
BEGIN:VEVENT
UID:d22e24864161bb0a37549c8a0cb8b689
DTSTAMP:20260425T120209Z
SUMMARY:PJ Library MLK Day Event
DESCRIPTION:Champaign-Urbana Jewish Federation\nCommunity Calendar\nhttps:/
 /cujf.org/community-calendar/pj-library-mlk-day-event\n\nUJF PJ Library is
  excited to take part in the\n\nNational Days of Jewish Service:\n\nMartin
  Luther King Jr. Day\n\n \n\nSunday\, January 18th\, 2026\n\n10:30 AM - 1
 2:00 PM CST\n\nThe Lake House in Crystal Lake Park\n\n206 W Park St\, Urba
 na IL\n\n \n\nAbout Our Service Project\n\nLow Barrier Opportunities for 
 Children to Uplift Our Local Community\n\n \n\nCUJF PJ Library is excited
  to use the National Days of Jewish Service (NDJS) grant to put together c
 are packages with essential items...
DTSTART;TZID=America/Chicago:20260118T103000
DTEND;TZID=America/Chicago:20260118T123000
END:VEVENT
END:VCALENDAR
