BEGIN:VCALENDAR
PRODID:-//eluceo/ical//2.0/EN
VERSION:2.0
CALSCALE:GREGORIAN
BEGIN:VEVENT
UID:11fdbe0aab6e29647528880d2d447ee4
DTSTAMP:20260421T043824Z
SUMMARY:PJ Library Kickoff at Riggs
DESCRIPTION:Champaign-Urbana Jewish Federation\nCommunity Calendar\nhttps:/
 /cujf.org/community-calendar/pj-library-kickoff-at-riggs\n\nMore details t
 o come soon! 
DTSTART;TZID=America/Chicago:20240908T160000
DTEND;TZID=America/Chicago:20240908T173000
END:VEVENT
END:VCALENDAR
