BEGIN:VCALENDAR
PRODID:-//eluceo/ical//2.0/EN
VERSION:2.0
CALSCALE:GREGORIAN
BEGIN:VEVENT
UID:f9d670b55fa692f8cc67d0b5794253e2
DTSTAMP:20260423T195534Z
SUMMARY:PJ Library Get Together Kickoff
DESCRIPTION:Champaign-Urbana Jewish Federation\nCommunity Calendar\nhttps:/
 /cujf.org/community-calendar/pj-library-get-together-kickoff-1661196782\n\
 nJoin CUJF for kids activities and drinks at Riggs Brewery as we kick off 
 the PJLibrary Get Together initiative! Bring your kids from 0-12 years old
  to play on the playground\, make Rosh HaShanah cards for our local senior
 s\, and sign up for your own PJLibrary get together (https://pjlibrary.org
 /gt) where you'll get $100 reimbursement to get together with other PJ fam
 ilies.\n\nRSVP (appreciated but not required to attend) https://www.cujf.
 org/rsvp-pjgt 
DTSTART;TZID=America/Chicago:20220911T153000
DTEND;TZID=America/Chicago:20220911T173000
END:VEVENT
END:VCALENDAR
