BEGIN:VCALENDAR
PRODID:-//eluceo/ical//2.0/EN
VERSION:2.0
CALSCALE:GREGORIAN
BEGIN:VEVENT
UID:782bafcfcb1e7b9fd421024e1288f117
DTSTAMP:20260426T020024Z
SUMMARY:PJ Library Donut Decorating
DESCRIPTION:Champaign-Urbana Jewish Federation\nCommunity Calendar\nhttps:/
 /cujf.org/community-calendar/pj-library-donut-decorating-1699998680\n\nPJ 
 Library families with kids of all ages are invited to the second event of 
 our baking series!\n\nWe are having a post-Hanukkah Donut Decorating party
  hosted at the Illini Hillel!\n\nRSVP by Dec 12th at www.cujf.org/pjdonuts
 \n\nParking is available at the garage next door\n\nSponsor: CUJF\, Illin
 i Hillel
DTSTART;TZID=America/Chicago:20231217T100000
DTEND;TZID=America/Chicago:20231217T113000
END:VEVENT
END:VCALENDAR
