BEGIN:VCALENDAR
PRODID:-//eluceo/ical//2.0/EN
VERSION:2.0
CALSCALE:GREGORIAN
BEGIN:VEVENT
UID:4550edb26be3fc97540d2d999dc1a814
DTSTAMP:20260426T002054Z
SUMMARY:PJ Library Challah at Chabad (PreK - 6th grade)
DESCRIPTION:Champaign-Urbana Jewish Federation\nCommunity Calendar\nhttps:/
 /cujf.org/community-calendar/pj-library-challah-at-chabad-prek---6th-grade
 -1702924859\n\nPreK through 6th graders are invited for Challah at Chabad 
 on Jan 14th\, 2024 2:00-3:30pm.\n\nParticipants will mix and shape challah
  dough into a loaf they can bake at home.\n\nThere is no cost for this eve
 nt but we request that you please RSVP by Jan 7 at www.cujf.org/pjchallah\
 n\nPreK-2nd graders must be accompanied by a parent or guardian.
DTSTART;TZID=America/Chicago:20240114T140000
DTEND;TZID=America/Chicago:20240114T153000
END:VEVENT
END:VCALENDAR
