BEGIN:VCALENDAR
PRODID:-//eluceo/ical//2.0/EN
VERSION:2.0
CALSCALE:GREGORIAN
BEGIN:VEVENT
UID:9b7e7ab4e2f270a650d346a5096ac1f7
DTSTAMP:20260422T034337Z
SUMMARY:PJ Hamentashen Baking
DESCRIPTION:Champaign-Urbana Jewish Federation\nCommunity Calendar\nhttps:/
 /cujf.org/community-calendar/pj-hamentashen-baking\n\nPJ Library and Sinai
  Temple - Intergenerational Hamentaschen Baking\n\nL'DOUGH vaDOUGH - From 
 Generation to Generation (or from Dough to Dough)\n\nPlease join us for an
  intergenerational hamentaschen baking event!  PJ Library (a program of C
 UJF) and Sinai Temple Religious School (a program of Sinai Temple) invite 
 you to bake hamentaschen with us!\n\nWe hope to have children\, teens\, yo
 ung adults and not so young adults come together to learn a simple recipe 
 for hamentaschen dough\, sample fill...
DTSTART;TZID=America/Chicago:20240317T150000
DTEND;TZID=America/Chicago:20240317T170000
END:VEVENT
END:VCALENDAR
