BEGIN:VCALENDAR
PRODID:-//eluceo/ical//2.0/EN
VERSION:2.0
CALSCALE:GREGORIAN
BEGIN:VEVENT
UID:ab903bdb94065906a464156231cc1fcb
DTSTAMP:20260423T002425Z
SUMMARY:PJ Library Parents Night Out
DESCRIPTION:Champaign-Urbana Jewish Federation\nCommunity Calendar\nhttps:/
 /cujf.org/community-calendar/parents-night-out\n\n \n\n\n\n\n\n\n\n\n\n\n
 \n\n\n\nLearn more about Firedoll Studio\n\n\n\n\n\nSpace is limited - RSV
 P Today!! \n\n\n\n\n\n\n\nParents Night Out\n\n \n\nSunday\, November 17
 th\, 2024\n\n6:00 PM - 7:30 PM\n\nFiredoll Studio\, 29 E Main St\, Champai
 gn IL\n\n \n\nDo you need a fun and stress free activity to help you feel
  better about life? Come and join us at Firedoll Studio on Sunday\, Novem
 ber 17th at 6:00pm for candle making and a chance to hang out with your f
 riends! This will be an Parents On...
DTSTART;TZID=America/Chicago:20241117T180000
DTEND;TZID=America/Chicago:20241117T193000
END:VEVENT
END:VCALENDAR
