BEGIN:VCALENDAR
PRODID:-//eluceo/ical//2.0/EN
VERSION:2.0
CALSCALE:GREGORIAN
BEGIN:VEVENT
UID:5519a3b9bc83fa70aabb8663b76d335b
DTSTAMP:20260422T083350Z
SUMMARY:Parade of Lights 2024
DESCRIPTION:Champaign-Urbana Jewish Federation\nCommunity Calendar\nhttps:/
 /cujf.org/community-calendar/parade-of-lights-2024\n\nClick Here for more 
 information about the Parade of Lights! We will have updates soon about C
 UJF's involvement - if you are interested in helping us with our Parade of
  Lights group\, please email azer@cujf.org. 
DTSTART;TZID=America/Chicago:20241130T000000
DTEND;TZID=America/Chicago:20241130T235959
END:VEVENT
END:VCALENDAR
