BEGIN:VCALENDAR
PRODID:-//eluceo/ical//2.0/EN
VERSION:2.0
CALSCALE:GREGORIAN
BEGIN:VEVENT
UID:6f6c5157b802cff5bb9f1ed9176156c9
DTSTAMP:20260421T161933Z
SUMMARY:Papashoy Klezmer Band at the Rosebowl
DESCRIPTION:Champaign-Urbana Jewish Federation\nCommunity Calendar\nhttps:/
 /cujf.org/community-calendar/papashoy-klezmer-band-at-the-rosebowl\n\nClic
 k here for more information! \n\n 
DTSTART;TZID=America/Chicago:20240331T190000
DTEND;TZID=America/Chicago:20240331T200000
END:VEVENT
END:VCALENDAR
