BEGIN:VCALENDAR
PRODID:-//eluceo/ical//2.0/EN
VERSION:2.0
CALSCALE:GREGORIAN
BEGIN:VEVENT
UID:938ae1c24aa3f5881d98bac58ea50520
DTSTAMP:20260425T151456Z
SUMMARY:Panel Screening: Screams Before Silence
DESCRIPTION:Champaign-Urbana Jewish Federation\nCommunity Calendar\nhttps:/
 /cujf.org/community-calendar/panel-screening-screams-before-silence\n\nThu
 rsday\, June 6\, at 6 PM Central\, ARZA (the American Reform Zionist Assoc
 iation)\, in conjunction with the Union for Reform Judaism\, will present 
 a special online panel discussion about the film\, featuring producer Sher
 yl Sandberg\, Rabbi Liz P. G. Hirsch\, and Yolanda Savage-Narva\, Vice Pr
 esident of REDI for the Union for Reform Judaism.  We will host a group v
 iewing of the panel discussion at Sinai Temple\, or you may register at h
 ttps://tinyurl.com/sbspanel to view it on your own.  \n\n...
DTSTART;TZID=America/Chicago:20240606T180000
DTEND;TZID=America/Chicago:20240606T190000
END:VEVENT
END:VCALENDAR
