BEGIN:VCALENDAR
PRODID:-//eluceo/ical//2.0/EN
VERSION:2.0
CALSCALE:GREGORIAN
BEGIN:VEVENT
UID:cf4438e8bd4f53cf84daa03fb4a260e0
DTSTAMP:20260421T234341Z
SUMMARY:Orthodox Rosh Hashanah Morning Service
DESCRIPTION:Champaign-Urbana Jewish Federation\nCommunity Calendar\nhttps:/
 /cujf.org/community-calendar/orthodox-rosh-hashanah-service-Sept-11\n\n \
 n\nHillel is offering Reform\, Conservative\, and Orthodox services for th
 e High Holidays. Please see their website for a complete listing of all s
 ervices and meals for Rosh Hashanah\, Yom Kippur\, and Sukkot. The same we
 bsite serves as the registration page for students. They have a separate 
 page for registration for community members. 
DTSTART;TZID=America/Chicago:20180911T093000
DTEND;TZID=America/Chicago:20180911T113000
END:VEVENT
END:VCALENDAR
