BEGIN:VCALENDAR
PRODID:-//eluceo/ical//2.0/EN
VERSION:2.0
CALSCALE:GREGORIAN
BEGIN:VEVENT
UID:eb686ed651a664ca3d0ab5f3f9611de9
DTSTAMP:20260422T135320Z
SUMMARY:Orthodox\, Conservative\, and Reform Afternoon Yom Kippur Services
DESCRIPTION:Champaign-Urbana Jewish Federation\nCommunity Calendar\nhttps:/
 /cujf.org/community-calendar/orthodox-conservative-and-reform-afternoon-yo
 m-kippur-services-2018\n\n \n\nHillel is offering Reform\, Conservative\,
  and Orthodox services for the High Holidays. Please see their website for
  a complete listing of all services and meals for Rosh Hashanah\, Yom Kip
 pur\, and Sukkot. The same website serves as the registration page for st
 udents. They have a separate page for registration for community members.
  
DTSTART;TZID=America/Chicago:20180919T170000
DTEND;TZID=America/Chicago:20180919T190000
END:VEVENT
END:VCALENDAR
