BEGIN:VCALENDAR
PRODID:-//eluceo/ical//2.0/EN
VERSION:2.0
CALSCALE:GREGORIAN
BEGIN:VEVENT
UID:f54028fd9998b382713d452db5e9b092
DTSTAMP:20260421T044213Z
SUMMARY:Orthodox and Conservative Yom Kippur Morning Service
DESCRIPTION:Champaign-Urbana Jewish Federation\nCommunity Calendar\nhttps:/
 /cujf.org/community-calendar/orthodox-and-conservative-yom-kippur-morning-
 service-2018\n\n \n\nHillel is offering Reform\, Conservative\, and Ortho
 dox services for the High Holidays. Please see their website for a comple
 te listing of all services and meals for Rosh Hashanah\, Yom Kippur\, and 
 Sukkot. The same website serves as the registration page for students. Th
 ey have a separate page for registration for community members. 
DTSTART;TZID=America/Chicago:20180919T093000
DTEND;TZID=America/Chicago:20180919T113000
END:VEVENT
END:VCALENDAR
