BEGIN:VCALENDAR
PRODID:-//eluceo/ical//2.0/EN
VERSION:2.0
CALSCALE:GREGORIAN
BEGIN:VEVENT
UID:77b4fb6aca53bc07fd51efc0c3e1405f
DTSTAMP:20260421T162013Z
SUMMARY:Orthodox and Conservative Afternoon Rosh Hashanah Service
DESCRIPTION:Champaign-Urbana Jewish Federation\nCommunity Calendar\nhttps:/
 /cujf.org/community-calendar/orthodox-and-conservative-afternoon-rosh-hash
 anah-service\n\n \n\nHillel is offering Reform\, Conservative\, and Ortho
 dox services for the High Holidays. Please see their website for a comple
 te listing of all services and meals for Rosh Hashanah\, Yom Kippur\, and 
 Sukkot. The same website serves as the registration page for students. Th
 ey have a separate page for registration for community members. 
DTSTART;TZID=America/Chicago:20180911T143000
DTEND;TZID=America/Chicago:20180911T163000
END:VEVENT
END:VCALENDAR
